BEGIN:VCALENDAR
VERSION:2.0
PRODID:-//Barnstable Academy - ECPv6.7.0//NONSGML v1.0//EN
CALSCALE:GREGORIAN
METHOD:PUBLISH
X-ORIGINAL-URL:https://www.barnstableacademy.com
X-WR-CALDESC:Events for Barnstable Academy
REFRESH-INTERVAL;VALUE=DURATION:PT1H
X-Robots-Tag:noindex
X-PUBLISHED-TTL:PT1H
BEGIN:VTIMEZONE
TZID:UTC
BEGIN:STANDARD
TZOFFSETFROM:+0000
TZOFFSETTO:+0000
TZNAME:UTC
DTSTART:20220101T000000
END:STANDARD
END:VTIMEZONE
BEGIN:VEVENT
DTSTART;VALUE=DATE:20221103
DTEND;VALUE=DATE:20221201
DTSTAMP:20260419T134329
CREATED:20220627T170503Z
LAST-MODIFIED:20220627T170503Z
UID:4624-1667433600-1669852799@www.barnstableacademy.com
SUMMARY:Map Testing â€“ PM
DESCRIPTION:
URL:https://www.barnstableacademy.com/event/map-testing-pm-2023/
CATEGORIES:Events,No Registration
END:VEVENT
BEGIN:VEVENT
DTSTART;TZID=UTC:20221107T131000
DTEND;TZID=UTC:20221107T191000
DTSTAMP:20260419T134329
CREATED:20220627T155755Z
LAST-MODIFIED:20220627T155824Z
UID:4594-1667826600-1667848200@www.barnstableacademy.com
SUMMARY:Parent/Teachers Conferences - 12:45pm Dismissal
DESCRIPTION:
URL:https://www.barnstableacademy.com/event/parent-teachers-conferences-11-7-22/
CATEGORIES:Events,No Registration
END:VEVENT
BEGIN:VEVENT
DTSTART;TZID=UTC:20221108T090000
DTEND;TZID=UTC:20221108T130000
DTSTAMP:20260419T134329
CREATED:20220627T155953Z
LAST-MODIFIED:20220627T155953Z
UID:4595-1667898000-1667912400@www.barnstableacademy.com
SUMMARY:Professional Development - School Closed for Students
DESCRIPTION:
URL:https://www.barnstableacademy.com/event/professional-development-school-closed-for-students-11-8-22/
CATEGORIES:Events,No Registration
END:VEVENT
BEGIN:VEVENT
DTSTART;VALUE=DATE:20221111
DTEND;VALUE=DATE:20221112
DTSTAMP:20260419T134329
CREATED:20220627T160047Z
LAST-MODIFIED:20220627T160047Z
UID:4596-1668124800-1668211199@www.barnstableacademy.com
SUMMARY:End of First Quarter
DESCRIPTION:
URL:https://www.barnstableacademy.com/event/end-of-first-quarter-2022/
CATEGORIES:Events,No Registration
END:VEVENT
END:VCALENDAR