BEGIN:VCALENDAR
VERSION:2.0
PRODID:-//Barnstable Academy - ECPv6.7.0//NONSGML v1.0//EN
CALSCALE:GREGORIAN
METHOD:PUBLISH
X-WR-CALNAME:Barnstable Academy
X-ORIGINAL-URL:https://www.barnstableacademy.com
X-WR-CALDESC:Events for Barnstable Academy
REFRESH-INTERVAL;VALUE=DURATION:PT1H
X-Robots-Tag:noindex
X-PUBLISHED-TTL:PT1H
BEGIN:VTIMEZONE
TZID:UTC
BEGIN:STANDARD
TZOFFSETFROM:+0000
TZOFFSETTO:+0000
TZNAME:UTC
DTSTART:20210101T000000
END:STANDARD
END:VTIMEZONE
BEGIN:VEVENT
DTSTART;TZID=UTC:20210617T100000
DTEND;TZID=UTC:20210617T130000
DTSTAMP:20260423T103259
CREATED:20210221T204058Z
LAST-MODIFIED:20210221T204058Z
UID:4048-1623924000-1623934800@www.barnstableacademy.com
SUMMARY:Senior Commencement - 10:00am
DESCRIPTION:Senior Commencement – 10:00am
URL:https://www.barnstableacademy.com/event/senior-commencement-1000am/
CATEGORIES:Events,No Registration
END:VEVENT
BEGIN:VEVENT
DTSTART;TZID=UTC:20210618T100000
DTEND;TZID=UTC:20210618T120000
DTSTAMP:20260423T103259
CREATED:20210221T204220Z
LAST-MODIFIED:20210221T204220Z
UID:4049-1624010400-1624017600@www.barnstableacademy.com
SUMMARY:8th Grade Commencement - 10:00am
DESCRIPTION:8th Grade Commencement – 10:00am
URL:https://www.barnstableacademy.com/event/8th-grade-commencement-1000am/
CATEGORIES:Events,No Registration
END:VEVENT
BEGIN:VEVENT
DTSTART;VALUE=DATE:20210621
DTEND;VALUE=DATE:20210626
DTSTAMP:20260423T103259
CREATED:20210221T204334Z
LAST-MODIFIED:20210221T204334Z
UID:4050-1624233600-1624665599@www.barnstableacademy.com
SUMMARY:Workshop Week\, June 21-25
DESCRIPTION:Workshop Week\, June 21-25
URL:https://www.barnstableacademy.com/event/workshop-week-june-21-25/
CATEGORIES:Events,No Registration
END:VEVENT
BEGIN:VEVENT
DTSTART;VALUE=DATE:20210906
DTEND;VALUE=DATE:20210907
DTSTAMP:20260423T103259
CREATED:20210628T145029Z
LAST-MODIFIED:20210628T145029Z
UID:4309-1630886400-1630886400@www.barnstableacademy.com
SUMMARY:Labor Day - School Closed
DESCRIPTION:
URL:https://www.barnstableacademy.com/event/labor-day-school-closed/
CATEGORIES:Events,No Registration
END:VEVENT
END:VCALENDAR