BEGIN:VCALENDAR
VERSION:2.0
PRODID:-//Barnstable Academy - ECPv6.7.0//NONSGML v1.0//EN
CALSCALE:GREGORIAN
METHOD:PUBLISH
X-WR-CALNAME:Barnstable Academy
X-ORIGINAL-URL:https://www.barnstableacademy.com
X-WR-CALDESC:Events for Barnstable Academy
REFRESH-INTERVAL;VALUE=DURATION:PT1H
X-Robots-Tag:noindex
X-PUBLISHED-TTL:PT1H
BEGIN:VTIMEZONE
TZID:UTC
BEGIN:STANDARD
TZOFFSETFROM:+0000
TZOFFSETTO:+0000
TZNAME:UTC
DTSTART:20230101T000000
END:STANDARD
END:VTIMEZONE
BEGIN:VEVENT
DTSTART;TZID=UTC:20230525T124000
DTEND;TZID=UTC:20230525T124000
DTSTAMP:20260423T100101
CREATED:20220627T165146Z
LAST-MODIFIED:20220627T165234Z
UID:4614-1685018400-1685018400@www.barnstableacademy.com
SUMMARY:Early Dismissal - 12:40pm Dismissal
DESCRIPTION:
URL:https://www.barnstableacademy.com/event/early-dismissal-5-25-23/
CATEGORIES:Events,No Registration
END:VEVENT
BEGIN:VEVENT
DTSTART;VALUE=DATE:20230526
DTEND;VALUE=DATE:20230530
DTSTAMP:20260423T100101
CREATED:20220627T165404Z
LAST-MODIFIED:20220627T165404Z
UID:4615-1685059200-1685404799@www.barnstableacademy.com
SUMMARY:Memorial Day Weekend - School Closed
DESCRIPTION:
URL:https://www.barnstableacademy.com/event/memorial-day-weekend-2023/
CATEGORIES:Events,No Registration
END:VEVENT
END:VCALENDAR